BEGIN:VCALENDAR
VERSION:2.0
PRODID:-//Blend Hair &amp; Spa - ECPv4.8.1//NONSGML v1.0//EN
CALSCALE:GREGORIAN
METHOD:PUBLISH
X-WR-CALNAME:Blend Hair &amp; Spa
X-ORIGINAL-URL:https://blendhairandspa.com.au
X-WR-CALDESC:Events for Blend Hair &amp; Spa
BEGIN:VEVENT
DTSTART;VALUE=DATE:20190313
DTEND;VALUE=DATE:20190314
DTSTAMP:20190228T230151
CREATED:20190109T022903Z
LAST-MODIFIED:20190227T223250Z
UID:1749-1552435200-1552521599@blendhairandspa.com.au
SUMMARY:Eye Treatments
DESCRIPTION:Enjoy our special eye treatments 75 minutes including Brow Henna + Style + Conditioning + Lash Lift + Lash Tint + Lash Conditioning Treatment! \nSAVE $55 \n
URL:https://blendhairandspa.com.au/event/eye-treatments-2/
LOCATION:Blend Hair + Spa\, Shop 3 Rumba Resort\, Caloundra\, Queensland\, 4551\, Australia
CATEGORIES:Eyes
ATTACH;FMTTYPE=image/jpeg:https://blendhairandspa.com.au/wp-content/uploads/2019/01/eye-promo-a4.jpg
END:VEVENT
END:VCALENDAR