BEGIN:VCALENDAR
VERSION:2.0
PRODID:-//Blend Hair &amp; Spa - ECPv4.8.1//NONSGML v1.0//EN
CALSCALE:GREGORIAN
METHOD:PUBLISH
X-WR-CALNAME:Blend Hair &amp; Spa
X-ORIGINAL-URL:https://blendhairandspa.com.au
X-WR-CALDESC:Events for Blend Hair &amp; Spa
BEGIN:VEVENT
DTSTART;VALUE=DATE:20190405
DTEND;VALUE=DATE:20190505
DTSTAMP:20190228T230319
CREATED:20180127T230451Z
LAST-MODIFIED:20190109T022443Z
UID:1367-1554422400-1557014399@blendhairandspa.com.au
SUMMARY:Makeup 101
DESCRIPTION:60 minutes Makeup 101. Learn how to achieve great looks tailored just for you! Payment is redeemable for products \n
URL:https://blendhairandspa.com.au/event/makeup-101-2/
LOCATION:Blend Hair + Spa\, Shop 3 Rumba Resort\, Caloundra\, Queensland\, 4551\, Australia
CATEGORIES:Makeup
ATTACH;FMTTYPE=image/jpeg:https://blendhairandspa.com.au/wp-content/uploads/2018/02/makeup-promo-a4.jpg
END:VEVENT
END:VCALENDAR