BEGIN:VCALENDAR
VERSION:2.0
PRODID:-//Blend Hair &amp; Spa - ECPv4.8.1//NONSGML v1.0//EN
CALSCALE:GREGORIAN
METHOD:PUBLISH
X-WR-CALNAME:Blend Hair &amp; Spa
X-ORIGINAL-URL:https://blendhairandspa.com.au
X-WR-CALDESC:Events for Blend Hair &amp; Spa
BEGIN:VEVENT
DTSTART;TZID=UTC+10:20180701T173000
DTEND;TZID=UTC+10:20180901T190000
DTSTAMP:20190228T230058
CREATED:20171231T011119Z
LAST-MODIFIED:20180712T053052Z
UID:1162-1530466200-1535828400@blendhairandspa.com.au
SUMMARY:Birthday Bonanza
DESCRIPTION:Blend Hair and Spa turns 2 and we want to celebrate! \n  \n
URL:https://blendhairandspa.com.au/event/skin-education/
LOCATION:Blend Hair + Spa\, Shop 3 Rumba Resort\, Caloundra\, Queensland\, 4551\, Australia
CATEGORIES:Skin
ATTACH;FMTTYPE=image/jpeg:https://blendhairandspa.com.au/wp-content/uploads/2018/06/Blend-Birthday-flyer.jpg
END:VEVENT
END:VCALENDAR